BEGIN:VCALENDAR
VERSION:2.0
PRODID:-//APC Mahalaxmi College for Women - ECPv6.13.2.1//NONSGML v1.0//EN
CALSCALE:GREGORIAN
METHOD:PUBLISH
X-WR-CALNAME:APC Mahalaxmi College for Women
X-ORIGINAL-URL:https://apcmcollege.ac.in
X-WR-CALDESC:Events for APC Mahalaxmi College for Women
REFRESH-INTERVAL;VALUE=DURATION:PT1H
X-Robots-Tag:noindex
X-PUBLISHED-TTL:PT1H
BEGIN:VTIMEZONE
TZID:Asia/Kolkata
BEGIN:STANDARD
TZOFFSETFROM:+0530
TZOFFSETTO:+0530
TZNAME:IST
DTSTART:20260101T000000
END:STANDARD
END:VTIMEZONE
BEGIN:VEVENT
DTSTART;TZID=Asia/Kolkata:20260417T110000
DTEND;TZID=Asia/Kolkata:20260417T130000
DTSTAMP:20260423T104940
CREATED:20260421T063133Z
LAST-MODIFIED:20260421T063133Z
UID:30194-1776423600-1776430800@apcmcollege.ac.in
SUMMARY:Inauguration of CSR Support by NTPL Thermal Power Station - 17.04.2026
DESCRIPTION:The IQAC of A.P.C. Mahalaxmi College for Women\, Thoothukudi\, organized a grand inauguration of CSR-funded educational infrastructure provided by NTPL Thermal Power Station\, Tuticorin on 17.04.2026. With a generous grant of Rs. 9\,98\,500\, the institution installed 7 Interactive Panels\, a Signing Board\, and a Digital Podium to strengthen digital pedagogy and enhance the teaching-learning experience. \nThe programme was graced by Shri K. Anandaramanujam\, CEO\, NTPL\, who inaugurated the facilities and delivered an inspiring address on the importance of technology in education. The management honoured the Chief Guest and extended special appreciation to Mr. Raghupathy for his instrumental role in facilitating the CSR support. \nThe event witnessed active participation from faculty and students\, marking a significant milestone in the institution’s journey towards digital transformation\, academic excellence\, and empowered learning through industry–institution collaboration.
URL:https://apcmcollege.ac.in/event/inauguration-of-csr-support-by-ntpl-thermal-power-station-17-04-2026/
CATEGORIES:APCM News,Our Upcoming Events
END:VEVENT
END:VCALENDAR