BEGIN:VCALENDAR
VERSION:2.0
PRODID:-//APC Mahalaxmi College for Women - ECPv6.13.2.1//NONSGML v1.0//EN
CALSCALE:GREGORIAN
METHOD:PUBLISH
X-WR-CALNAME:APC Mahalaxmi College for Women
X-ORIGINAL-URL:https://apcmcollege.ac.in
X-WR-CALDESC:Events for APC Mahalaxmi College for Women
REFRESH-INTERVAL;VALUE=DURATION:PT1H
X-Robots-Tag:noindex
X-PUBLISHED-TTL:PT1H
BEGIN:VTIMEZONE
TZID:Asia/Kolkata
BEGIN:STANDARD
TZOFFSETFROM:+0530
TZOFFSETTO:+0530
TZNAME:IST
DTSTART:20260101T000000
END:STANDARD
END:VTIMEZONE
BEGIN:VEVENT
DTSTART;TZID=Asia/Kolkata:20260318T093000
DTEND;TZID=Asia/Kolkata:20260318T133000
DTSTAMP:20260423T110927
CREATED:20260421T053638Z
LAST-MODIFIED:20260421T054741Z
UID:30179-1773826200-1773840600@apcmcollege.ac.in
SUMMARY:Annual Sports Day 2025–2026 - 18.03.2026
DESCRIPTION:A.P.C. Mahalaxmi College for Women successfully hosted its Annual Sports Day 2025–2026 on 18 March 2026 at the college grounds. The event was graced by Thiru. S. Saravanan\, Deputy General Manager and Head of HR Department\, NTPL\, Thoothukudi\, and Thiru. P. C. Ragupathy\, Additional Chief Manager\, CSR & PR\, NTPL\, Thoothukudi. \n \n \n \n \nThe students performed colourful mass drills and an impressive march past\, showcasing discipline\, coordination\, and team spirit. The occasion celebrated the true spirit of sportsmanship\, with enthusiastic participation and the distribution of prizes recognizing student achievements.
URL:https://apcmcollege.ac.in/event/annual-sports-day-2025-2026-18-03-2026/
CATEGORIES:APCM News
END:VEVENT
END:VCALENDAR