BEGIN:VCALENDAR
VERSION:2.0
PRODID:-//APC Mahalaxmi College for Women - ECPv6.13.2.1//NONSGML v1.0//EN
CALSCALE:GREGORIAN
METHOD:PUBLISH
X-WR-CALNAME:APC Mahalaxmi College for Women
X-ORIGINAL-URL:https://apcmcollege.ac.in
X-WR-CALDESC:Events for APC Mahalaxmi College for Women
REFRESH-INTERVAL;VALUE=DURATION:PT1H
X-Robots-Tag:noindex
X-PUBLISHED-TTL:PT1H
BEGIN:VTIMEZONE
TZID:Asia/Kolkata
BEGIN:STANDARD
TZOFFSETFROM:+0530
TZOFFSETTO:+0530
TZNAME:IST
DTSTART:20260101T000000
END:STANDARD
END:VTIMEZONE
BEGIN:VEVENT
DTSTART;TZID=Asia/Kolkata:20260328T093000
DTEND;TZID=Asia/Kolkata:20260328T143000
DTSTAMP:20260423T110910
CREATED:20260421T055447Z
LAST-MODIFIED:20260421T060234Z
UID:30181-1774690200-1774708200@apcmcollege.ac.in
SUMMARY:Department of Computer Science - Pearl Jubilee Celebration - 28.03.2026
DESCRIPTION:The Department of Computer Science of A.P.C. Mahalaxmi College for Women\, Thoothukudi\, celebrated its Pearl Jubilee (30 Glorious Years) on 28 March 2026\, marking three decades since its establishment in 1996.\n\n\nThe celebration featured the release of a Jubilee Souvenir and a grand alumni meet\, in which around 220 alumnae\, along with their children\, participated\, making the event vibrant and memorable. Mrs. Saraswathi Murugesan\, Assistant Vice President\, Standard Chartered Bank\, Bengaluru\, an alumna of the 2002–2005 batch\, was invited as the Chief Guest. The function was graced by President Thiru A.P.C.V. Chockalingam\, Secretary Thirumathi Subbulakshmi\, and Principal Dr. Subbulakshmi.\n\n\nOn the occasion\, the alumni generously contributed Rs. 4\,50\,000 towards supporting needy students of the department\, reflecting their strong bond with the institution.\n\n\nThe event marked a proud milestone\, highlighting the department’s legacy of excellence and its continued commitment to empowering students.
URL:https://apcmcollege.ac.in/event/department-of-computer-science-pearl-jubilee-celebration-28-03-2026/
CATEGORIES:APCM News,Our Upcoming Events
END:VEVENT
END:VCALENDAR