BEGIN:VCALENDAR
VERSION:2.0
PRODID:-//APC Mahalaxmi College for Women - ECPv6.13.2.1//NONSGML v1.0//EN
CALSCALE:GREGORIAN
METHOD:PUBLISH
X-WR-CALNAME:APC Mahalaxmi College for Women
X-ORIGINAL-URL:https://apcmcollege.ac.in
X-WR-CALDESC:Events for APC Mahalaxmi College for Women
REFRESH-INTERVAL;VALUE=DURATION:PT1H
X-Robots-Tag:noindex
X-PUBLISHED-TTL:PT1H
BEGIN:VTIMEZONE
TZID:Asia/Kolkata
BEGIN:STANDARD
TZOFFSETFROM:+0530
TZOFFSETTO:+0530
TZNAME:IST
DTSTART:20240101T000000
END:STANDARD
END:VTIMEZONE
BEGIN:VEVENT
DTSTART;TZID=Asia/Kolkata:20250415T100000
DTEND;TZID=Asia/Kolkata:20250417T150000
DTSTAMP:20260424T045610
CREATED:20250415T124850Z
LAST-MODIFIED:20250415T125926Z
UID:29112-1744711200-1744902000@apcmcollege.ac.in
SUMMARY:Workshop - Short Film
DESCRIPTION:A.P.C. Mahalaxmi College for Women\, Thoothukudi\nP.G. Department of Tamil organizes a \n*Workshop 0n Short Film*\n\nDates: 15.042025 – 17.04.2025\nTime: 10:00 a.m. \n  \n                                                         Click here to know more 
URL:https://apcmcollege.ac.in/event/workshop-short-film/
CATEGORIES:Our Upcoming Events
END:VEVENT
BEGIN:VEVENT
DTSTART;TZID=Asia/Kolkata:20250320T093000
DTEND;TZID=Asia/Kolkata:20250320T150000
DTSTAMP:20260424T045610
CREATED:20250314T073730Z
LAST-MODIFIED:20250314T073730Z
UID:29043-1742463000-1742482800@apcmcollege.ac.in
SUMMARY:Mahautsav'25
DESCRIPTION:A.P.C. Mahalaxmi College for Women\, Thoothukudi\nInterdepartmental Cultural Fest \n*Mahautsav’25*\n\nDates: 20th & 21st March 2025 \nTime: 9:30 a.m. – 03:00 p.m.
URL:https://apcmcollege.ac.in/event/mahautsav25/
CATEGORIES:Our Upcoming Events
END:VEVENT
BEGIN:VEVENT
DTSTART;TZID=Asia/Kolkata:20250314T143000
DTEND;TZID=Asia/Kolkata:20250314T153000
DTSTAMP:20260424T045610
CREATED:20250314T075959Z
LAST-MODIFIED:20250314T075959Z
UID:29046-1741962600-1741966200@apcmcollege.ac.in
SUMMARY:Faculty Development Programme
DESCRIPTION:A.P.C. Mahalaxmi College for Women\, Thoothukudi\nFaculty Development Programme \n*Navigation Towards Funding Agencies*\n\nDate: 14th March 2025 (Friday)\nTime: 2:30 p.m. – 3:30 p.m.
URL:https://apcmcollege.ac.in/event/faculty-development-programme/
CATEGORIES:APCM News
END:VEVENT
BEGIN:VEVENT
DTSTART;VALUE=DATE:20250314
DTEND;VALUE=DATE:20250315
DTSTAMP:20260424T045610
CREATED:20250314T081613Z
LAST-MODIFIED:20250314T081613Z
UID:29056-1741910400-1741996799@apcmcollege.ac.in
SUMMARY:APCM FRIDAY MARKET
DESCRIPTION:A.P.C. Mahalaxmi College for Women\, Thoothukudi\nAPCM Friday Market\nDate : On every Friday\nTime : 12:25 p.m. to 1:25 p.m.\n 
URL:https://apcmcollege.ac.in/event/apcm-friday-market/
CATEGORIES:APCM News
END:VEVENT
BEGIN:VEVENT
DTSTART;TZID=Asia/Kolkata:20250307T093000
DTEND;TZID=Asia/Kolkata:20250307T150000
DTSTAMP:20260424T045610
CREATED:20250314T081002Z
LAST-MODIFIED:20250314T081223Z
UID:29049-1741339800-1741359600@apcmcollege.ac.in
SUMMARY:Women's Day
DESCRIPTION:A.P.C. Mahalaxmi College for Women\, Thoothukudi\nInternational Women’s Day Celebrations \n*organized by WERA*\n\nDates: 7th & 8th March 2025 \n  \n                           \n                         
URL:https://apcmcollege.ac.in/event/womens-day/
CATEGORIES:APCM News
END:VEVENT
BEGIN:VEVENT
DTSTART;TZID=Asia/Kolkata:20250306T093000
DTEND;TZID=Asia/Kolkata:20250306T150000
DTSTAMP:20260424T045610
CREATED:20250313T054250Z
LAST-MODIFIED:20250313T054617Z
UID:29032-1741253400-1741273200@apcmcollege.ac.in
SUMMARY:Inter-Collegiate Technical Symposium - 'WarTech25'
DESCRIPTION:A.P.C. Mahalaxmi College for Women\, Thoothukudi\nInter-Collegiate Technical Symposium \n*WarTech25*\n\nDate: 06th March 2025 (Thursday)\nTime: 9:30 a.m. – 03:00 p.m.\n\n                                                                                                             Click here to know more \n 
URL:https://apcmcollege.ac.in/event/inter-collegiate-technical-symposium-wartech25/
CATEGORIES:APCM News
END:VEVENT
BEGIN:VEVENT
DTSTART;TZID=Asia/Kolkata:20250305T080000
DTEND;TZID=Asia/Kolkata:20250305T170000
DTSTAMP:20260424T045610
CREATED:20250314T084810Z
LAST-MODIFIED:20250314T084849Z
UID:29059-1741161600-1741194000@apcmcollege.ac.in
SUMMARY:One Day Workshop
DESCRIPTION:A.P.C. Mahalaxmi College for Women\, Thoothukudi\nOne day workshop on \n“Biostatistical research Tool Operation in Excel & Jamovi” \nDate : 05.03.2025\nTime : 09:30 a.m. to 03:15 p.m.
URL:https://apcmcollege.ac.in/event/one-day-workshop/
CATEGORIES:APCM News
END:VEVENT
BEGIN:VEVENT
DTSTART;TZID=Asia/Kolkata:20250228T103000
DTEND;TZID=Asia/Kolkata:20250228T123000
DTSTAMP:20260424T045610
CREATED:20250223T170632Z
LAST-MODIFIED:20250223T170632Z
UID:29024-1740738600-1740745800@apcmcollege.ac.in
SUMMARY:SCI FEST 2025
DESCRIPTION:A.P.C. Mahalaxmi College for Women\, Thoothukudi\n*SCI FEST 2025*\n\nDate: 28th February 2025 (Friday)\nTime: 10.30 a.m. – 12.30 p.m.\n\n                                                                                                             
URL:https://apcmcollege.ac.in/event/sci-fest-2025/
CATEGORIES:Our Upcoming Events
END:VEVENT
BEGIN:VEVENT
DTSTART;TZID=Asia/Kolkata:20250221T110000
DTEND;TZID=Asia/Kolkata:20250221T123000
DTSTAMP:20260424T045610
CREATED:20250223T164542Z
LAST-MODIFIED:20250223T170016Z
UID:29021-1740135600-1740141000@apcmcollege.ac.in
SUMMARY:தாய் மொழி தினம்
DESCRIPTION:A.P.C. Mahalaxmi College for Women\, Thoothukudi\n* தாய்மொழி தினம் *\nதலைப்பு : ” தமிழால் ஏலாதா?! ” \n21.02.2025\n  \nClick here to view …
URL:https://apcmcollege.ac.in/event/%e0%ae%a4%e0%ae%be%e0%ae%af%e0%af%8d-%e0%ae%ae%e0%af%8a%e0%ae%b4%e0%ae%bf-%e0%ae%a4%e0%ae%bf%e0%ae%a9%e0%ae%ae%e0%af%8d/
CATEGORIES:APCM News
END:VEVENT
BEGIN:VEVENT
DTSTART;TZID=Asia/Kolkata:20250202T083000
DTEND;TZID=Asia/Kolkata:20250202T110000
DTSTAMP:20260424T045610
CREATED:20250120T090530Z
LAST-MODIFIED:20250125T065251Z
UID:28976-1738485000-1738494000@apcmcollege.ac.in
SUMMARY:48th Graduation Ceremony
DESCRIPTION:A.P.C. Mahalaxmi College for Women\, Thoothukudi\n* 48th Graduation Ceremony*\n02.02.2025\n  Click here to know more
URL:https://apcmcollege.ac.in/event/48th-graduation-ceremony/
CATEGORIES:Our Upcoming Events
END:VEVENT
BEGIN:VEVENT
DTSTART;TZID=Asia/Kolkata:20250130T173000
DTEND;TZID=Asia/Kolkata:20250130T193000
DTSTAMP:20260424T045610
CREATED:20250129T075707Z
LAST-MODIFIED:20250129T075724Z
UID:29000-1738258200-1738265400@apcmcollege.ac.in
SUMMARY:52nd College Day
DESCRIPTION:A.P.C. Mahalaxmi College for Women\, Thoothukudi\n*52nd College Day”\n\nDate: 30th January 2025 (Thursday)\nTime: 05.30 p.m. – 07.30 p.m.\n\n  Click here to know more
URL:https://apcmcollege.ac.in/event/29000/
CATEGORIES:Our Upcoming Events
END:VEVENT
BEGIN:VEVENT
DTSTART;TZID=Asia/Kolkata:20250130T103000
DTEND;TZID=Asia/Kolkata:20250130T123000
DTSTAMP:20260424T045610
CREATED:20250125T065057Z
LAST-MODIFIED:20250125T065120Z
UID:28995-1738233000-1738240200@apcmcollege.ac.in
SUMMARY:Golden Jubilee Valedictory Ceremony
DESCRIPTION:A.P.C. Mahalaxmi College for Women\, Thoothukudi\n*Golden Jubilee Valedictory Ceremony”\n\nCelebrating 50 Years of Excellence\n\nDate: 30th January 2025 (Thursday)\nTime: 10.30 a.m. – 12.30 p.m.*\n\n  Click here to know more
URL:https://apcmcollege.ac.in/event/28995/
CATEGORIES:Our Upcoming Events
END:VEVENT
BEGIN:VEVENT
DTSTART;TZID=Asia/Kolkata:20250127T093000
DTEND;TZID=Asia/Kolkata:20250128T170000
DTSTAMP:20260424T045610
CREATED:20250129T081218Z
LAST-MODIFIED:20250129T081303Z
UID:29004-1737970200-1738083600@apcmcollege.ac.in
SUMMARY:Ball Badminton Tournament (Women)
DESCRIPTION:A.P.C. Mahalaxmi College for Women\, Thoothukudi\n*Ball Badminton Tournament (Women)*\n\non 27th & 28th January 2025 \n\n\n  Click here to know more
URL:https://apcmcollege.ac.in/event/29004/
CATEGORIES:APCM News
END:VEVENT
BEGIN:VEVENT
DTSTART;TZID=Asia/Kolkata:20250126T080000
DTEND;TZID=Asia/Kolkata:20250126T100000
DTSTAMP:20260424T045610
CREATED:20250125T064700Z
LAST-MODIFIED:20250125T065128Z
UID:28992-1737878400-1737885600@apcmcollege.ac.in
SUMMARY:76th Republic Day Celebration
DESCRIPTION:A.P.C. Mahalaxmi College for Women\, Thoothukudi\n* 76th Republic Day Celebration*\n26.01.2025\n  Click here to know more
URL:https://apcmcollege.ac.in/event/28992/
CATEGORIES:Our Upcoming Events
END:VEVENT
BEGIN:VEVENT
DTSTART;TZID=Asia/Kolkata:20250120T100000
DTEND;TZID=Asia/Kolkata:20250120T170000
DTSTAMP:20260424T045610
CREATED:20250120T083640Z
LAST-MODIFIED:20250120T084331Z
UID:28959-1737367200-1737392400@apcmcollege.ac.in
SUMMARY:முத்தமிழ் விழா
DESCRIPTION:A.P.C. Mahalaxmi College for Women\, Thoothukudi\n* முத்தமிழ் விழா – கொண்டாட்டம் *\n20.01.2025 
URL:https://apcmcollege.ac.in/event/%e0%ae%ae%e0%af%81%e0%ae%a4%e0%af%8d%e0%ae%a4%e0%ae%ae%e0%ae%bf%e0%ae%b4%e0%af%8d-%e0%ae%b5%e0%ae%bf%e0%ae%b4%e0%ae%be/
CATEGORIES:APCM News
END:VEVENT
BEGIN:VEVENT
DTSTART;TZID=Asia/Kolkata:20250113T090000
DTEND;TZID=Asia/Kolkata:20250113T103000
DTSTAMP:20260424T045610
CREATED:20250120T084837Z
LAST-MODIFIED:20250120T084837Z
UID:28966-1736758800-1736764200@apcmcollege.ac.in
SUMMARY:Pongal Celebration
DESCRIPTION:A.P.C. Mahalaxmi College for Women\, Thoothukudi\n* Pongal Celebration *\n   Organized by department of Tamil \n                                                                               Date  :  13.01.2025\n 
URL:https://apcmcollege.ac.in/event/pongal-celebration/
CATEGORIES:APCM News
END:VEVENT
BEGIN:VEVENT
DTSTART;TZID=Asia/Kolkata:20250108T133000
DTEND;TZID=Asia/Kolkata:20250108T150000
DTSTAMP:20260424T045610
CREATED:20250120T085315Z
LAST-MODIFIED:20250120T085544Z
UID:28969-1736343000-1736348400@apcmcollege.ac.in
SUMMARY:Orientation Programme on Research
DESCRIPTION:A.P.C. Mahalaxmi College for Women\, Thoothukudi\n* Orientation Programme on Research *\n   Organized by P.G. & Research department of Chemistry  \n08.01.2025
URL:https://apcmcollege.ac.in/event/orientation-programme-on-research/
CATEGORIES:APCM News
END:VEVENT
BEGIN:VEVENT
DTSTART;TZID=Asia/Kolkata:20250108T100000
DTEND;TZID=Asia/Kolkata:20250108T123000
DTSTAMP:20260424T045610
CREATED:20250120T085637Z
LAST-MODIFIED:20250120T085818Z
UID:28972-1736330400-1736339400@apcmcollege.ac.in
SUMMARY:Faculty Development Programme
DESCRIPTION:A.P.C. Mahalaxmi College for Women\, Thoothukudi\n* Faculty Development Programme on “Bridging Ideas And Impact For Research Excellence” *\n   Organized by P.G. & Research department of Chemistry  \n08.01.2025\n 
URL:https://apcmcollege.ac.in/event/28972/
CATEGORIES:APCM News
END:VEVENT
BEGIN:VEVENT
DTSTART;TZID=Asia/Kolkata:20241023T093000
DTEND;TZID=Asia/Kolkata:20241024T150000
DTSTAMP:20260424T045610
CREATED:20241017T093240Z
LAST-MODIFIED:20241021T134351Z
UID:28811-1729675800-1729782000@apcmcollege.ac.in
SUMMARY:NAAC PEER TEAM VISIT
DESCRIPTION:A.P.C. Mahalaxmi College for Women\, Thoothukudi\n* NAAC PEER TEAM VISIT *\n23.10.2024 & 24.10.2024\n  \n\nChairperson\n \n\n\n\nDr. Viquar Unnisa\nProfessor\nMaulana Azad National Urdu University\, Telangana\n\n\n  \n  \n\n\nMEMBER COORDINATOR\n \n\n\n\nDr. Noor Afza\nDean\nTumkur University \, Karnataka\n\n\n  \n  \n\n\nMEMBER\n\n\n\n\nDr. Rajendra Lokhande\n\nPrincipal\nMahavir Mahavidyalaya\, Kolhapur\n  \n 
URL:https://apcmcollege.ac.in/event/28811/
CATEGORIES:Our Upcoming Events
END:VEVENT
BEGIN:VEVENT
DTSTART;TZID=Asia/Kolkata:20241014T110000
DTEND;TZID=Asia/Kolkata:20241014T123000
DTSTAMP:20260424T045610
CREATED:20241018T113854Z
LAST-MODIFIED:20241018T114701Z
UID:28821-1728903600-1728909000@apcmcollege.ac.in
SUMMARY:Poster making competition
DESCRIPTION:A.P.C. Mahalaxmi College for Women\, Thoothukudi\n* Poster making competition *\n   Organized by Women Empowerment Cell \n14.10.2024 \n 
URL:https://apcmcollege.ac.in/event/poster-making-competition-2/
CATEGORIES:APCM News
END:VEVENT
BEGIN:VEVENT
DTSTART;TZID=Asia/Kolkata:20241004T140000
DTEND;TZID=Asia/Kolkata:20241004T153000
DTSTAMP:20260424T045610
CREATED:20241009T090642Z
LAST-MODIFIED:20241009T091812Z
UID:28783-1728050400-1728055800@apcmcollege.ac.in
SUMMARY:தமிழ் இலக்கிய மன்றத் தொடக்க விழா
DESCRIPTION:A.P.C. Mahalaxmi College for Women\, Thoothukudi\n* தமிழ் இலக்கிய மன்றத் தொடக்க விழா *\n04.10.2024 \n  \nClick here to view …
URL:https://apcmcollege.ac.in/event/%e0%ae%a4%e0%ae%ae%e0%ae%bf%e0%ae%b4%e0%af%8d-%e0%ae%87%e0%ae%b2%e0%ae%95%e0%af%8d%e0%ae%95%e0%ae%bf%e0%ae%af-%e0%ae%ae%e0%ae%a9%e0%af%8d%e0%ae%b1%e0%ae%a4%e0%af%8d-%e0%ae%a4%e0%af%8a%e0%ae%9f/
CATEGORIES:APCM News
END:VEVENT
BEGIN:VEVENT
DTSTART;TZID=Asia/Kolkata:20241004T110000
DTEND;TZID=Asia/Kolkata:20241004T123000
DTSTAMP:20260424T045610
CREATED:20241018T115018Z
LAST-MODIFIED:20241018T115208Z
UID:28827-1728039600-1728045000@apcmcollege.ac.in
SUMMARY:மனிதமும் அறமும் - கருத்தரங்கம்
DESCRIPTION:A.P.C. Mahalaxmi College for Women\, Thoothukudi\n* மனிதமும் அறமும் – கருத்தரங்கம் *\n4.10.2024 
URL:https://apcmcollege.ac.in/event/%e0%ae%ae%e0%ae%a9%e0%ae%bf%e0%ae%a4%e0%ae%ae%e0%af%81%e0%ae%ae%e0%af%8d-%e0%ae%85%e0%ae%b1%e0%ae%ae%e0%af%81%e0%ae%ae%e0%af%8d-%e0%ae%95%e0%ae%b0%e0%af%81%e0%ae%a4%e0%af%8d%e0%ae%a4%e0%ae%b0%e0%ae%99/
CATEGORIES:APCM News
END:VEVENT
BEGIN:VEVENT
DTSTART;TZID=Asia/Kolkata:20240927T100000
DTEND;TZID=Asia/Kolkata:20240928T170000
DTSTAMP:20260424T045610
CREATED:20241018T115656Z
LAST-MODIFIED:20241018T120140Z
UID:28832-1727431200-1727542800@apcmcollege.ac.in
SUMMARY:M.S.University Inter Collegiate Table Tennis Tournament
DESCRIPTION:A.P.C. Mahalaxmi College for Women\, Thoothukudi\n* M.S.University Inter Collegiate Table Tennis Tournament *\n  27.09.24 to 28.09.24 \n A.P.C Mahalaxmi College for women’s Table Tennis team secured Third position in M.S.University  \nInter Collegiate Table Tennis Tournament held at GVN College\, Kovilpatti \nDate – 27.09.24 to 28.o9.24
URL:https://apcmcollege.ac.in/event/m-s-university-inter-collegiate-table-tennis-tournament/
CATEGORIES:APCM News
END:VEVENT
BEGIN:VEVENT
DTSTART;TZID=Asia/Kolkata:20240919T103000
DTEND;TZID=Asia/Kolkata:20240919T150000
DTSTAMP:20260424T045610
CREATED:20240918T083400Z
LAST-MODIFIED:20240918T083712Z
UID:28628-1726741800-1726758000@apcmcollege.ac.in
SUMMARY:International Literacy Day 2024
DESCRIPTION:A.P.C. Mahalaxmi College for Women\, Thoothukudi\n* International Literacy Day 2024 *\n19.09.2024 \n 
URL:https://apcmcollege.ac.in/event/28628/
CATEGORIES:Our Upcoming Events
END:VEVENT
BEGIN:VEVENT
DTSTART;TZID=Asia/Kolkata:20240919T100000
DTEND;TZID=Asia/Kolkata:20240919T153000
DTSTAMP:20260424T045610
CREATED:20240919T071113Z
LAST-MODIFIED:20240919T071143Z
UID:28644-1726740000-1726759800@apcmcollege.ac.in
SUMMARY:Vermicompost & Vermiwash Practice
DESCRIPTION:A.P.C. Mahalaxmi College for Women\, Thoothukudi\n* One Day Workshop on  *\n* “Vermicompost & Vermiwash Practice for Green Farming”\n16.09.2024 \n  \nClick here to view …
URL:https://apcmcollege.ac.in/event/vermicompost-vermiwash-practice/
CATEGORIES:APCM News
END:VEVENT
BEGIN:VEVENT
DTSTART;TZID=Asia/Kolkata:20240918T100000
DTEND;TZID=Asia/Kolkata:20240920T150000
DTSTAMP:20260424T045610
CREATED:20240919T070241Z
LAST-MODIFIED:20240919T070310Z
UID:28634-1726653600-1726844400@apcmcollege.ac.in
SUMMARY:Project Punch 95.0
DESCRIPTION:A.P.C. Mahalaxmi College for Women\, Thoothukudi\n* Project Punch 95.0 *\n18.09.2024 – 20.09.2024
URL:https://apcmcollege.ac.in/event/28634/
CATEGORIES:APCM News
END:VEVENT
BEGIN:VEVENT
DTSTART;TZID=Asia/Kolkata:20240916T100000
DTEND;TZID=Asia/Kolkata:20240916T150000
DTSTAMP:20260424T045610
CREATED:20240919T070820Z
LAST-MODIFIED:20240919T070935Z
UID:28640-1726480800-1726498800@apcmcollege.ac.in
SUMMARY:Vermicompost & Vermiwash Practice for Green Farming
DESCRIPTION:A.P.C. Mahalaxmi College for Women\, Thoothukudi\n* One Day Workshop on  *\n* “Vermicompost & Vermiwash Practice for Green Farming”\n16.09.2024 \n  \nClick here to view …\n 
URL:https://apcmcollege.ac.in/event/28640/
CATEGORIES:APCM News
END:VEVENT
BEGIN:VEVENT
DTSTART;TZID=Asia/Kolkata:20240812T093000
DTEND;TZID=Asia/Kolkata:20240812T153000
DTSTAMP:20260424T045610
CREATED:20240812T032730Z
LAST-MODIFIED:20240812T033452Z
UID:25913-1723455000-1723476600@apcmcollege.ac.in
SUMMARY:Warm welcome to the Mock Peer Team
DESCRIPTION:
URL:https://apcmcollege.ac.in/event/welcome-to-the-mock-peer-team/
CATEGORIES:APCM News
END:VEVENT
BEGIN:VEVENT
DTSTART;TZID=Asia/Kolkata:20240730T140000
DTEND;TZID=Asia/Kolkata:20240730T151500
DTSTAMP:20260424T045610
CREATED:20240730T090405Z
LAST-MODIFIED:20240730T090438Z
UID:25698-1722348000-1722352500@apcmcollege.ac.in
SUMMARY:Orientation cum Training Programme on "Educational Loan"
DESCRIPTION:A.P.C. Mahalaxmi College for Women\, Thoothukudi\n* Orientation cum Training  Programme on Educational Loan*\n30.07.2024 \n 
URL:https://apcmcollege.ac.in/event/orientation-cum-training-programme-on-educational-loan/
CATEGORIES:APCM News
END:VEVENT
BEGIN:VEVENT
DTSTART;TZID=Asia/Kolkata:20240619T093000
DTEND;TZID=Asia/Kolkata:20240619T153000
DTSTAMP:20260424T045610
CREATED:20240619T051832Z
LAST-MODIFIED:20240619T065254Z
UID:25428-1718789400-1718811000@apcmcollege.ac.in
SUMMARY:Student Induction Programme Schedule
DESCRIPTION:A.P.C. Mahalaxmi College for Women\, Thoothukudi\n* Student Induction Programme *\n19.06.2024 – 25.06.2024\n         \n  Click here to know more
URL:https://apcmcollege.ac.in/event/student-induction-programme-schedule/
CATEGORIES:APCM News
END:VEVENT
END:VCALENDAR